BEGIN:VCALENDAR
VERSION:2.0
PRODID:-//Roseville Reporter - ECPv6.15.20//NONSGML v1.0//EN
CALSCALE:GREGORIAN
METHOD:PUBLISH
X-WR-CALNAME:Roseville Reporter
X-ORIGINAL-URL:https://rosevillereporter.org
X-WR-CALDESC:Events for Roseville Reporter
REFRESH-INTERVAL;VALUE=DURATION:PT1H
X-Robots-Tag:noindex
X-PUBLISHED-TTL:PT1H
BEGIN:VTIMEZONE
TZID:America/Chicago
BEGIN:DAYLIGHT
TZOFFSETFROM:-0600
TZOFFSETTO:-0500
TZNAME:CDT
DTSTART:20250309T080000
END:DAYLIGHT
BEGIN:STANDARD
TZOFFSETFROM:-0500
TZOFFSETTO:-0600
TZNAME:CST
DTSTART:20251102T070000
END:STANDARD
BEGIN:DAYLIGHT
TZOFFSETFROM:-0600
TZOFFSETTO:-0500
TZNAME:CDT
DTSTART:20260308T080000
END:DAYLIGHT
BEGIN:STANDARD
TZOFFSETFROM:-0500
TZOFFSETTO:-0600
TZNAME:CST
DTSTART:20261101T070000
END:STANDARD
BEGIN:DAYLIGHT
TZOFFSETFROM:-0600
TZOFFSETTO:-0500
TZNAME:CDT
DTSTART:20270314T080000
END:DAYLIGHT
BEGIN:STANDARD
TZOFFSETFROM:-0500
TZOFFSETTO:-0600
TZNAME:CST
DTSTART:20271107T070000
END:STANDARD
END:VTIMEZONE
BEGIN:VEVENT
DTSTART;TZID=America/Chicago:20260328T100000
DTEND;TZID=America/Chicago:20260328T130000
DTSTAMP:20260422T083913
CREATED:20260121T182535Z
LAST-MODIFIED:20260121T182539Z
UID:10000151-1774692000-1774702800@rosevillereporter.org
SUMMARY:Ramsey County Fix-It Clinics
DESCRIPTION:At Fix-It Clinics\, residents bring in small household appliances\, clothing\, electronics and more to receive free guided assistance from volunteers with repair skills to disassemble\, troubleshoot and fix items.   \n\n\n\nEvents are first come\, first serve. Last items accepted a half hour before the event ends\, and there is a three item limit. \n\n\n\nFeel free to bring any tools and supplies you think might help with the job. However\, volunteers have plenty of tools\, so it’s not mandatory. \n\n\n\nClick the button to learn more about past fixed items\, unaccepted items and volunteer opportunities.
URL:https://rosevillereporter.org/event/ramsey-county-fix-it-clinics-2/
LOCATION:Silverwood Park Visitor Center Great Hall\, 2500 County Rd E\, St. Anthony\, Minnesota\, 55421\, United States
CATEGORIES:Community Event,Free events
END:VEVENT
BEGIN:VEVENT
DTSTART;TZID=America/Chicago:20260324T183000
DTEND;TZID=America/Chicago:20260324T194500
DTSTAMP:20260422T083913
CREATED:20260126T164038Z
LAST-MODIFIED:20260126T164042Z
UID:10000156-1774377000-1774381500@rosevillereporter.org
SUMMARY:Truth\, Trust & the Ballot Box: Understanding Election Security
DESCRIPTION:Join the League of Women Voters for a conversation with election security experts on how the State of Minnesota and local governments ensure safe and secure elections. \n\n\n\nThis event is free and open to the public. Doors open at 6 p.m. Register by clicking the button below. \n\n\n\nPlease contact lwvrosevillearea@lwvmn.org if requesting ASL interpreting services\, allowing for lead time. \n\n\n\nGuest speakers: \n\n\n\n\nBill Ekblad — Election Security Navigator\, Office of the Minnesota Secretary of State\n\n\n\nDavid Triplett — Deputy Director\, Ramsey County Property Tax\, Records & Election Services\n\n\n\nRobin Johnson — Head Election Judge\, White Bear Lake\n\n\n\n\nSponsored by: \n\n\n\n\nLeague of Women Voters New Brighton Area\n\n\n\nLeague of Women Voters Roseville Area\n\n\n\nLeague of Women Voters St. Paul\n\n\n\nLeague of Women Voters White Bear Lake Area\n\n\n\nRamsey County Public Library
URL:https://rosevillereporter.org/event/truth-trust-the-ballot-box-understanding-election-security/
LOCATION:Ramsey County Library: Roseville Branch\, 2180 Hamline Ave North\, Roseville\, Minnesota\, 55113\, United States
CATEGORIES:Community Event,Free events,RCL Roseville
ATTACH;FMTTYPE=image/png:https://rosevillereporter.org/wp-content/uploads/2026/01/image-31.png
ORGANIZER;CN="League of Women Voters - Roseville Area":MAILTO:lwvrosevillearea@lwvmn.org
END:VEVENT
BEGIN:VEVENT
DTSTART;TZID=America/Chicago:20260323T183000
DTEND;TZID=America/Chicago:20260323T183000
DTSTAMP:20260422T083913
CREATED:20260319T173358Z
LAST-MODIFIED:20260319T173406Z
UID:10000187-1774290600-1774290600@rosevillereporter.org
SUMMARY:"Good Mourning" Concert @ WBLUMC
DESCRIPTION:In collaboration with White Bear Lake United Methodist Church\, acclaimed vocalist and producer Jennifer Grimm presents “Good Mourning\,” a uniquely intentional concert experience designed to create space for grief\, reflection and healing through music.   \n\n\n\nSet against the backdrop of a shared\, welcoming environment\, “Good Mourning” is not a traditional performance\, but an evening of musical remembrance\, offering audiences the opportunity to sit with loss in a supported and communal space\, while honoring their own individual experiences. \n\n\n\n“Good Mourning” invites all who are carrying loss—recent or long-held—to gather\, reflect and be held ina shared experience of remembrance and light.
URL:https://rosevillereporter.org/event/good-mourning-concert-wblumc/
LOCATION:White Bear Lake United Methodist Church\, 1851 Birch St.\, White Bear Lake\, Minnesota\, 55110\, United States
CATEGORIES:Community Event,Concerts,Free events
ATTACH;FMTTYPE=image/png:https://rosevillereporter.org/wp-content/uploads/2026/03/image-44.png
END:VEVENT
END:VCALENDAR